BEGIN:VCALENDAR
VERSION:2.0
PRODID:-//Squarespace Inc/Squarespace 6//v6//EN
BEGIN:VEVENT
UID:5b9977534fa51abe6b8206ac@squarespace.com
DTSTAMP:20180926T210301Z
DTSTART:20181013T200000Z
DTEND:20181013T220000Z
SUMMARY:EHC's 2018 Volunteer Recognition and Annual Membership Meeting
GEO:47.610248;-122.18305
LOCATION:Eastside Heritage Center\, 11660 Main Street\, Bellevue\, WA\, 980
 05\, United States
END:VEVENT
END:VCALENDAR
