BEGIN:VCALENDAR
VERSION:2.0
PRODID:-//Squarespace Inc/Squarespace 6//v6//EN
BEGIN:VEVENT
UID:5b9adef0c2241b9b72b8e24c@squarespace.com
DTSTAMP:20181015T223348Z
DTSTART:20181027T170000Z
DTEND:20181027T190000Z
SUMMARY:The Colman Murders
GEO:47.610248;-122.18305
LOCATION:mcdowell house\, 11660 main street\, bellevue\, wa
END:VEVENT
END:VCALENDAR
