BEGIN:VCALENDAR
VERSION:2.0
PRODID:-//Squarespace Inc/Squarespace 6//v6//EN
BEGIN:VEVENT
UID:5babdc90f9619ac4a42b6e8d@squarespace.com
DTSTAMP:20180926T193438Z
DTSTART:20181006T180000Z
DTEND:20181006T230000Z
SUMMARY:Kelsey Creek Farm Fair
GEO:47.605131;-122.16553
LOCATION:kelsey creek farm
END:VEVENT
END:VCALENDAR
