BEGIN:VCALENDAR
VERSION:2.0
PRODID:-//Squarespace Inc/Squarespace 6//v6//EN
BEGIN:VEVENT
UID:5b9adf13898583a64c39d861@squarespace.com
DTSTAMP:20181114T014512Z
DTSTART:20181117T023000Z
DTEND:20181117T033000Z
SUMMARY:Seattle Now and Then: The Historic Hundred
GEO:47.610248;-122.18305
LOCATION:McDowell House\, 11660 Main Street\, Bellevue\, WA
END:VEVENT
END:VCALENDAR
