BEGIN:VCALENDAR
VERSION:2.0
PRODID:-//Squarespace Inc/Squarespace 6//v6//EN
BEGIN:VEVENT
UID:5c2535edb8a045fb67a31908@squarespace.com
DTSTAMP:20181227T203022Z
DTSTART:20190126T210000Z
DTEND:20190126T220000Z
SUMMARY:HISTORY OF WILBURTON AND KELSEY CREEK FARM
GEO:47.610248;-122.18305
LOCATION:Eastside Heritage Center\, 11660 Main Street\, Bellevue\, WA\, Uni
 ted States
END:VEVENT
END:VCALENDAR
