BEGIN:VCALENDAR
VERSION:2.0
PRODID:-//Squarespace Inc/Squarespace 6//v6//EN
BEGIN:VEVENT
UID:5ba12fcb21c67cc0542adac5@squarespace.com
DTSTAMP:20181227T202829Z
DTSTART:20181103T200000Z
DTEND:20181103T210000Z
SUMMARY:HISTORY OF WILBURTON AND KELSEY CREEK FARM
GEO:47.605198;-122.165509
LOCATION:Kelsey Creek Farm\, 410 130th Pl SE\, Bellevue\, WA\, 98005\, Unit
 ed States
END:VEVENT
END:VCALENDAR
