BEGIN:VCALENDAR
VERSION:2.0
PRODID:-//Squarespace Inc/Squarespace 6//v6//EN
BEGIN:VEVENT
UID:5bedcbe9898583e333fba721@squarespace.com
DTSTAMP:20181119T184905Z
DTSTART:20181208T180000Z
DTEND:20181208T193000Z
SUMMARY:History of Enatai Elementary
GEO:47.610248;-122.18305
LOCATION:11660 Main Street\, Bellevue\, Wa
END:VEVENT
END:VCALENDAR
