BEGIN:VCALENDAR
VERSION:2.0
PRODID:-//Squarespace Inc/Squarespace 6//v6//EN
BEGIN:VEVENT
UID:5b735d7370a6ad6e13fa5733@squarespace.com
DTSTAMP:20180815T222005Z
DTSTART:20180818T180000Z
DTEND:20180818T220000Z
SUMMARY:Hands-on History Programming: 1888 Historic Fraser Cabin 
GEO:47.605131;-122.16553
LOCATION:Kelsey Creek Farm Park\, 410 130th Place Southeast\, Bellevue\, WA
 \, 98005\, United States
END:VEVENT
END:VCALENDAR
