BEGIN:VCALENDAR
VERSION:2.0
PRODID:-//Squarespace Inc/Squarespace 6//v6//EN
BEGIN:VEVENT
UID:5b73830ab8a04507b75e11e7@squarespace.com
DTSTAMP:20180816T214415Z
DTSTART:20180825T013000Z
DTEND:20180825T033000Z
SUMMARY:Ethnobotany Hike
GEO:47.595907;-122.183228
LOCATION:Mercer Slough Environmental Education Center\, 1625 118th Avenue S
 outheast\, Bellevue\, WA\, 98005\, United States
END:VEVENT
END:VCALENDAR
