BEGIN:VCALENDAR
VERSION:2.0
PRODID:-//Squarespace Inc/Squarespace 6//v6//EN
BEGIN:VEVENT
UID:5ba420664192022d339a74a5@squarespace.com
DTSTAMP:20180920T231437Z
DTSTART:20180929T170000Z
DTEND:20180929T203000Z
SUMMARY:Cougar Mountain Hike
GEO:47.534211;-122.113799
LOCATION:7077-7181 Clay Pit Rd\, Bellevue\, WA\, 98006\, United States
END:VEVENT
END:VCALENDAR
