BEGIN:VCALENDAR
VERSION:2.0
PRODID:-//Squarespace Inc/Squarespace 6//v6//EN
BEGIN:VEVENT
UID:5b7376c5f950b776d7684db7@squarespace.com
DTSTAMP:20180816T214151Z
DTSTART:20180925T190000Z
DTEND:20180926T010000Z
SUMMARY:Crossroads Farmers Market 
GEO:47.618648;-122.13054
LOCATION:Crossroads Mall\, 15600 Northeast 8th Street\, Bellevue\, WA\, 980
 07\, United States
END:VEVENT
END:VCALENDAR
