BEGIN:VCALENDAR
VERSION:2.0
PRODID:-//Squarespace Inc/Squarespace 6//v6//EN
BEGIN:VEVENT
UID:5b7383e5575d1f627e5b19f1@squarespace.com
DTSTAMP:20180816T214333Z
DTSTART:20180907T003000Z
DTEND:20180907T023000Z
SUMMARY:Historic Bellevue Walking Tour
GEO:47.612684;-122.204169
LOCATION:Bellevue Downtown Park\, 10201 NE 4th St\, bellevue\, wa
END:VEVENT
END:VCALENDAR
