BEGIN:VCALENDAR
VERSION:2.0
PRODID:-//Squarespace Inc/Squarespace 6//v6//EN
BEGIN:VEVENT
UID:5bedce3faa4a991d649bc914@squarespace.com
DTSTAMP:20181115T195213Z
DTSTART:20190116T200000Z
DTEND:20190116T213000Z
SUMMARY:TELOS - Stories from the Eastside's Past   
GEO:40.720756;-74.000761
LOCATION:14673 Northeast 29th Place\, Bellevue\, WA\, 98007\, United States
END:VEVENT
END:VCALENDAR
