BEGIN:VCALENDAR
VERSION:2.0
PRODID:-//Squarespace Inc/Squarespace 6//v6//EN
BEGIN:VEVENT
UID:5bedd0151ae6cf1e9adde641@squarespace.com
DTSTAMP:20181115T200920Z
DTSTART:20190119T220000Z
DTEND:20190120T000000Z
SUMMARY:Eastside Logging History
GEO:47.551524;-122.123489
LOCATION:lewis creek visitor center\, 5808 Lakemont Blvd. SE\, Bellevue\, W
 A
END:VEVENT
END:VCALENDAR
