BEGIN:VCALENDAR
VERSION:2.0
PRODID:-//Squarespace Inc/Squarespace 6//v6//EN
BEGIN:VEVENT
UID:5bedcc9d40ec9a37edbc89f1@squarespace.com
DTSTAMP:20181115T194950Z
DTSTART:20190102T200000Z
DTEND:20190102T213000Z
SUMMARY:TELOS - Stories from the Eastside's Past
GEO:47.634627;-122.145404
LOCATION:14673 Northeast 29th Place\, Bellevue\, WA\, 98007\, United States
END:VEVENT
END:VCALENDAR
