BEGIN:VCALENDAR
VERSION:2.0
PRODID:-//Squarespace Inc/Squarespace 6//v6//EN
BEGIN:VEVENT
UID:5bedcdfc352f53f49aa38c58@squarespace.com
DTSTAMP:20181115T195114Z
DTSTART:20190109T200000Z
DTEND:20190109T213000Z
SUMMARY:TELOS - Stories from the Eastside's Past   
GEO:40.720756;-74.000761
LOCATION:14673 Northeast 29th Place\, Bellevue\, WA\, 98007\, United States
END:VEVENT
END:VCALENDAR
