BEGIN:VCALENDAR
VERSION:2.0
PRODID:-//Squarespace Inc/Squarespace 6//v6//EN
BEGIN:VEVENT
UID:5d4362966f6e7a0001f5ee74@squarespace.com
DTSTAMP:20191001T170016Z
DTSTART:20191030T160000Z
DTEND:20191030T220000Z
SUMMARY:Bridge Tournament to Benefit Eastside Heritage Center
GEO:47.585892;-122.142117
LOCATION:2650 148th Avenue Southeast\, Bellevue\, WA\, 98007\, United State
 s
END:VEVENT
END:VCALENDAR
