BEGIN:VCALENDAR
VERSION:2.0
PRODID:-//Squarespace Inc/Squarespace 6//v6//EN
BEGIN:VEVENT
UID:5d55ba4f084726000167e174@squarespace.com
DTSTAMP:20210803T184716Z
DTSTART:20191005T180000Z
DTEND:20191005T230000Z
SUMMARY:Kelsey Creek Farm Fair
GEO:47.605131;-122.16553
LOCATION:410 130th Place Southeast\, Bellevue\, WA\, 98005\, United States
END:VEVENT
END:VCALENDAR
