BEGIN:VCALENDAR
VERSION:2.0
PRODID:-//Squarespace Inc/Squarespace 6//v6//EN
BEGIN:VEVENT
UID:5dbb43793648c20aefc2bbef@squarespace.com
DTSTAMP:20191031T221007Z
DTSTART:20191114T020000Z
DTEND:20191114T033000Z
SUMMARY:Night with the Collection
GEO:47.610248;-122.18305
LOCATION:11660 Main Street\, Bellevue\, WA 98015
END:VEVENT
END:VCALENDAR
