BEGIN:VCALENDAR
VERSION:2.0
PRODID:-//Squarespace Inc/Squarespace 6//v6//EN
BEGIN:VEVENT
UID:5df7fd103f22553c3329bd74@squarespace.com
DTSTAMP:20200307T220440Z
DTSTART:20200308T210000Z
DTEND:20200308T223000Z
SUMMARY:Eastside Heritage Center Lecture Series: Wilburton Neighborhood
GEO:47.59592;-122.183185
LOCATION:Mercer Slough Environmental Education Center\, 1625 118th Avenue S
 outheast\, Bellevue\, WA\, 98005\, United States
END:VEVENT
END:VCALENDAR
