BEGIN:VCALENDAR
VERSION:2.0
PRODID:-//Squarespace Inc/Squarespace 6//v6//EN
BEGIN:VEVENT
UID:5c6f0d5deb39312d31bd48de@squarespace.com
DTSTAMP:20190221T204755Z
DTSTART:20190316T180000Z
DTEND:20190316T210000Z
SUMMARY:Meydenbauer Bay Park Grand Opening
GEO:47.612579;-122.210991
LOCATION:Meydenbauer Beach Park\, 419 98th Ave NE\, Bellevue\, WA\, United 
 States
END:VEVENT
END:VCALENDAR
