BEGIN:VCALENDAR
VERSION:2.0
PRODID:-//Squarespace Inc/Squarespace 6//v6//EN
BEGIN:VEVENT
UID:63489069a034910cce12d635@squarespace.com
DTSTAMP:20230117T212031Z
DTSTART:20230219T210000Z
DTEND:20230219T230000Z
SUMMARY:Heritage Lecture Series: Coal Mining at Cougar Mountain
GEO:47.550702;-122.125638
LOCATION:Lewis Creek Visitor Center\, 5808 Lakemont Blvd. SE\, Bellevue\, W
 A
END:VEVENT
END:VCALENDAR
