BEGIN:VCALENDAR
VERSION:2.0
PRODID:-//Squarespace Inc/Squarespace 6//v6//EN
BEGIN:VEVENT
UID:5bedd1e3032be43d6f313fd2@squarespace.com
DTSTAMP:20221013T222545Z
DTSTART:20190323T210000Z
DTEND:20190323T230000Z
SUMMARY:Coal Mining at Cougar Mountain
GEO:47.550702;-122.125638
LOCATION:lewis creek visitor center\, 5808 Lakemont Blvd. SE\, Bellevue\, W
 A
END:VEVENT
END:VCALENDAR
