BEGIN:VCALENDAR
VERSION:2.0
PRODID:-//Squarespace Inc/Squarespace 6//v6//EN
BEGIN:VEVENT
UID:5c6f1327eef1a1721c8d1703@squarespace.com
DTSTAMP:20190221T210922Z
DTSTART:20190309T010000Z
DTEND:20190311T010000Z
SUMMARY:Cultural Crossroads Festival at Crossroads Mall
END:VEVENT
END:VCALENDAR
