BEGIN:VCALENDAR
VERSION:2.0
PRODID:-//Squarespace Inc/Squarespace 6//v6//EN
BEGIN:VEVENT
UID:5c900e3df4e1fc6431e1a484@squarespace.com
DTSTAMP:20190318T214016Z
DTSTART:20190420T180000Z
DTEND:20190420T203000Z
SUMMARY:ARBOR DAY - EARTH DAY FAMILY FESTIVAL 
GEO:47.550702;-122.125638
LOCATION:Lewis Creek Park Visitor Center\, 5808 Lakemont Boulevard Southeas
 t\, Bellevue\, WA\, 98006\, United States
END:VEVENT
END:VCALENDAR
