BEGIN:VCALENDAR
VERSION:2.0
PRODID:-//Squarespace Inc/Squarespace 6//v6//EN
BEGIN:VEVENT
UID:5c6f0eaa6e9a7f3b440a19e9@squarespace.com
DTSTAMP:20190221T210122Z
DTSTART:20190427T180000Z
DTEND:20190427T230000Z
SUMMARY:FRASER CABIN HERITAGE PROGRAM at Kelsey Creek Farm
GEO:47.605131;-122.16553
LOCATION:Kelsey Creek Farm\, 410 130th Place Southeast\, Bellevue\, WA\, 98
 005\, United States
END:VEVENT
END:VCALENDAR
