BEGIN:VCALENDAR
VERSION:2.0
PRODID:-//Squarespace Inc/Squarespace 6//v6//EN
BEGIN:VEVENT
UID:62be2fe7b00ed27b0a40fb59@squarespace.com
DTSTAMP:20220705T192328Z
DTSTART:20220813T190000Z
DTEND:20220813T220000Z
SUMMARY:Fraser Cabin Heritage Program at Kelsey Creek Farm
GEO:47.605131;-122.16553
LOCATION:Kelsey Creek Farm\, 410 130th Place Southeast\, Bellevue\, WA\, 98
 005\, United States
END:VEVENT
END:VCALENDAR
