BEGIN:VCALENDAR
VERSION:2.0
PRODID:-//Squarespace Inc/Squarespace 6//v6//EN
BEGIN:VEVENT
UID:62c493308a9a934cfeca7396@squarespace.com
DTSTAMP:20220707T230513Z
DTSTART:20220820T170000Z
DTEND:20220820T200000Z
SUMMARY:Larsen Lake Cabin Heritage Program at Larsen Lake Blueberry Farm
GEO:47.603192;-122.142588
LOCATION:Larsen Lake Blueberry Farm\, 700 148th Avenue Southeast\, Bellevue
 \, WA\, 98007\, United States
END:VEVENT
END:VCALENDAR
