BEGIN:VCALENDAR
VERSION:2.0
PRODID:-//Squarespace Inc/Squarespace 6//v6//EN
BEGIN:VEVENT
UID:63c9d2424c26300b15a47dcc@squarespace.com
DTSTAMP:20230616T212119Z
DTSTART:20230617T170000Z
DTEND:20230617T200000Z
SUMMARY:Larsen Lake Cabin Heritage Program at Larsen Lake Blueberry Farm 
GEO:47.603192;-122.142588
LOCATION:Larsen Lake Blueberry Farm\, 700 148th Avenue Southeast\, Bellevue
 \, WA\, 98007\, United States
END:VEVENT
END:VCALENDAR
