BEGIN:VCALENDAR
VERSION:2.0
PRODID:-//Squarespace Inc/Squarespace 6//v6//EN
BEGIN:VEVENT
UID:62c490cd6600883253ee4061@squarespace.com
DTSTAMP:20230119T232906Z
DTSTART:20220716T170000Z
DTEND:20220716T200000Z
SUMMARY:Larsen Lake Cabin Heritage Program at Larsen Lake Blueberry Farm
GEO:47.603192;-122.142588
LOCATION:Larsen Lake Blueberry Farm\, 700 148th Avenue Southeast\, Bellevue
 \, WA\, 98007\, United States
END:VEVENT
END:VCALENDAR
