BEGIN:VCALENDAR
VERSION:2.0
PRODID:-//Squarespace Inc/Squarespace 6//v6//EN
BEGIN:VEVENT
UID:644985b479ab584143fab242@squarespace.com
DTSTAMP:20230616T213035Z
DTSTART:20230812T180000Z
DTEND:20230812T220000Z
SUMMARY:Fraser Cabin Heritage Program at Kelsey Creek Farm
GEO:47.605131;-122.16553
LOCATION:Kelsey Creek Farm\, 410 130th Place Southeast\, Bellevue\, WA\, 98
 005\, United States
END:VEVENT
END:VCALENDAR
