BEGIN:VCALENDAR
VERSION:2.0
PRODID:-//Squarespace Inc/Squarespace 6//v6//EN
BEGIN:VEVENT
UID:62be2fb1ac0beb0ad94cc532@squarespace.com
DTSTAMP:20220705T192312Z
DTSTART:20220709T190000Z
DTEND:20220709T220000Z
SUMMARY:Fraser Cabin Heritage Program at Kelsey Creek Farm 
GEO:47.605131;-122.16553
LOCATION:Kelsey Creek Farm\, 410 130th Place Southeast\, Bellevue\, WA\, 98
 005\, United States
END:VEVENT
END:VCALENDAR
