BEGIN:VCALENDAR
VERSION:2.0
PRODID:-//Squarespace Inc/Squarespace 6//v6//EN
BEGIN:VEVENT
UID:5d55da53d2fd3e00014e635d@squarespace.com
DTSTAMP:20190815T221914Z
DTSTART:20190921T180000Z
DTEND:20190921T220000Z
SUMMARY:Fraser Cabin Heritage Program at Kelsey Creek Farm
GEO:47.605131;-122.16553
LOCATION:Kelsey Creek Farm\, 410 130th Place Southeast\, Bellevue\, WA\, 98
 005\, United States
END:VEVENT
END:VCALENDAR
