BEGIN:VCALENDAR
VERSION:2.0
PRODID:-//Squarespace Inc/Squarespace 6//v6//EN
BEGIN:VEVENT
UID:644991ae69d60736131d6356@squarespace.com
DTSTAMP:20230616T213014Z
DTSTART:20230725T003000Z
DTEND:20230725T020000Z
SUMMARY:Early Bellevue Walking Tour
GEO:47.612684;-122.204169
LOCATION:10201 NE 4th St\, Bellevue\, WA 98004
END:VEVENT
END:VCALENDAR
