BEGIN:VCALENDAR
VERSION:2.0
PRODID:-//Squarespace Inc/Squarespace 6//v6//EN
BEGIN:VEVENT
UID:644991abf57a345d306f0200@squarespace.com
DTSTAMP:20230616T212140Z
DTSTART:20230627T003000Z
DTEND:20230627T020000Z
SUMMARY:Early Bellevue Walking Tour (Free!)
GEO:47.612684;-122.204169
LOCATION:10201 NE 4th St\, Bellevue\, WA 98004
END:VEVENT
END:VCALENDAR
