BEGIN:VCALENDAR
VERSION:2.0
PRODID:-//Squarespace Inc/Squarespace 6//v6//EN
BEGIN:VEVENT
UID:644991ad4bc1f6773118d389@squarespace.com
DTSTAMP:20230616T212832Z
DTSTART:20230711T003000Z
DTEND:20230711T020000Z
SUMMARY:Early Bellevue Walking Tour (Free!)
GEO:47.612684;-122.204169
LOCATION:10201 NE 4th St\, Bellevue\, WA 98004
END:VEVENT
END:VCALENDAR
