BEGIN:VCALENDAR
VERSION:2.0
PRODID:-//Squarespace Inc/Squarespace 6//v6//EN
BEGIN:VEVENT
UID:63c9d255bb094f7a4912d736@squarespace.com
DTSTAMP:20230616T212033Z
DTSTART:20230613T003000Z
DTEND:20230613T020000Z
SUMMARY:Early Bellevue Walking Tour (Free!)
GEO:47.612684;-122.204169
LOCATION:10201 NE 4th St\, Bellevue\, WA 98004
END:VEVENT
END:VCALENDAR
