BEGIN:VCALENDAR
VERSION:2.0
PRODID:-//Squarespace Inc/Squarespace 6//v6//EN
BEGIN:VEVENT
UID:62b4951de2ee5871d12a2bde@squarespace.com
DTSTAMP:20220630T232550Z
DTSTART:20220712T003000Z
DTEND:20220712T013000Z
SUMMARY:Bellevue Walking Tour 
GEO:47.612684;-122.204169
LOCATION:10201 NE 4th St\, Bellevue\, WA 98004
END:VEVENT
END:VCALENDAR
