BEGIN:VCALENDAR
VERSION:2.0
PRODID:-//Squarespace Inc/Squarespace 6//v6//EN
BEGIN:VEVENT
UID:5cf01e83f49a910001dc163d@squarespace.com
DTSTAMP:20190530T181857Z
DTSTART:20190925T003000Z
DTEND:20190925T023000Z
SUMMARY:Early Bellevue Walking Tour
GEO:47.612684;-122.204169
LOCATION:10201 NE 4th St\, Bellevue\, WA 98004
END:VEVENT
END:VCALENDAR
