BEGIN:VCALENDAR
VERSION:2.0
PRODID:-//Squarespace Inc/Squarespace 6//v6//EN
BEGIN:VEVENT
UID:645964465fdbe8361a815f10@squarespace.com
DTSTAMP:20230926T192053Z
DTSTART:20230930T200000Z
DTEND:20231001T000000Z
SUMMARY:EHC at Bellevue High School's Centennial Celebrations
GEO:47.618713;-122.131431
LOCATION:15600 NE 8th Street\, Bellevue\, WA 98008
END:VEVENT
END:VCALENDAR
