BEGIN:VCALENDAR
VERSION:2.0
PRODID:-//Squarespace Inc/Squarespace 6//v6//EN
BEGIN:VEVENT
UID:6449816805b09771c889872e@squarespace.com
DTSTAMP:20230508T204439Z
DTSTART:20230912T190000Z
DTEND:20230913T010000Z
SUMMARY:EHC at the Farmers Market  
GEO:47.618713;-122.131431
LOCATION:15600 NE 8th Street\, Bellevue\, WA 98008
END:VEVENT
END:VCALENDAR
