BEGIN:VCALENDAR
VERSION:2.0
PRODID:-//Squarespace Inc/Squarespace 6//v6//EN
BEGIN:VEVENT
UID:6449816564108a1291738167@squarespace.com
DTSTAMP:20230508T204326Z
DTSTART:20230808T190000Z
DTEND:20230809T010000Z
SUMMARY:EHC at the Farmers Market
GEO:47.618713;-122.131431
LOCATION:15600 NE 8th Street\, Bellevue\, WA 98008
END:VEVENT
END:VCALENDAR
