BEGIN:VCALENDAR
VERSION:2.0
PRODID:-//Squarespace Inc/Squarespace 6//v6//EN
BEGIN:VEVENT
UID:6436fc103fc5ee201397e580@squarespace.com
DTSTAMP:20230615T221414Z
DTSTART:20230718T190000Z
DTEND:20230719T010000Z
SUMMARY:EHC at the Farmers Market
GEO:47.618713;-122.131431
LOCATION:15600 NE 8th Street\, Bellevue\, WA 98008
END:VEVENT
END:VCALENDAR
