BEGIN:VCALENDAR
VERSION:2.0
PRODID:-//Squarespace Inc/Squarespace 6//v6//EN
BEGIN:VEVENT
UID:6436fbd78576eb2f22a314e1@squarespace.com
DTSTAMP:20230414T203503Z
DTSTART:20230613T190000Z
DTEND:20230614T010000Z
SUMMARY:EHC at the Farmers Market 
GEO:47.618713;-122.131431
LOCATION:15600 NE 8th Street\, Bellevue\, WA 98008
END:VEVENT
END:VCALENDAR
