BEGIN:VCALENDAR
VERSION:2.0
PRODID:-//Squarespace Inc/Squarespace 6//v6//EN
BEGIN:VEVENT
UID:5cf01b964278f900018c488c@squarespace.com
DTSTAMP:20190530T180631Z
DTSTART:20190806T190000Z
DTEND:20190807T010000Z
SUMMARY:EHC at the Farmers Market
GEO:47.618713;-122.131431
LOCATION:15600 NE 8th Street\, Bellevue\, WA 98008
END:VEVENT
END:VCALENDAR
