BEGIN:VCALENDAR
VERSION:2.0
PRODID:-//Squarespace Inc/Squarespace 6//v6//EN
BEGIN:VEVENT
UID:5cf01a9881dd270001faf6ac@squarespace.com
DTSTAMP:20190530T180614Z
DTSTART:20190604T190000Z
DTEND:20190605T010000Z
SUMMARY:EHC at the Farmers Market
GEO:47.618713;-122.131431
LOCATION:15600 NE 8th Street\, Bellevue\, WA 98008
END:VEVENT
END:VCALENDAR
