BEGIN:VCALENDAR
VERSION:2.0
PRODID:-//Squarespace Inc/Squarespace 6//v6//EN
BEGIN:VEVENT
UID:5c6f1233ec212d858b586744@squarespace.com
DTSTAMP:20190530T184019Z
DTSTART:20190704T210000Z
DTEND:20190705T030000Z
SUMMARY:Family 4th of July Celebration
END:VEVENT
END:VCALENDAR
