BEGIN:VCALENDAR
VERSION:2.0
PRODID:-//Squarespace Inc/Squarespace 6//v6//EN
BEGIN:VEVENT
UID:5d43636b6b765c00017a69fc@squarespace.com
DTSTAMP:20190801T221329Z
DTSTART:20190824T180000Z
DTEND:20190824T230000Z
SUMMARY:McDowell House Anniversary Event
GEO:47.610248;-122.18305
LOCATION:11660 Main Street\, Bellevue\, WA
END:VEVENT
END:VCALENDAR
