BEGIN:VCALENDAR
VERSION:2.0
PRODID:-//Squarespace Inc/Squarespace 6//v6//EN
BEGIN:VEVENT
UID:5d76ce405790680fa7417fab@squarespace.com
DTSTAMP:20190909T221638Z
DTSTART:20190927T020000Z
DTEND:20190927T030000Z
SUMMARY:Seattle's First Railroad - Lecture
GEO:47.62016;-122.194337
LOCATION:1111 110th Avenue Northeast\, Bellevue\, WA\, 98004\, United State
 s
END:VEVENT
END:VCALENDAR
