BEGIN:VCALENDAR
VERSION:2.0
PRODID:-//Squarespace Inc/Squarespace 6//v6//EN
BEGIN:VEVENT
UID:63488f755af2a344805e6392@squarespace.com
DTSTAMP:20221226T200745Z
DTSTART:20230115T210000Z
DTEND:20230115T230000Z
SUMMARY:Heritage Lecture Series: The Lowering Of Lake Washington
GEO:47.59592;-122.183185
LOCATION:Mercer Slough Environmental Education Center\, 1625 118th Avenue S
 outheast\, Bellevue\, WA\, 98005\, United States
END:VEVENT
END:VCALENDAR
